BEGIN:VCALENDAR
VERSION:2.0
PRODID:-//wp-events-plugin.com//7.2.3.1//EN
TZID:Europe/Paris
X-WR-TIMEZONE:Europe/Paris
BEGIN:VEVENT
UID:88@infobresse.fr
DTSTART;TZID=Europe/Paris:20260606T100000
DTEND;TZID=Europe/Paris:20260607T190000
DTSTAMP:20260223T225749Z
URL:https://infobresse.fr/events/baladart-6-7-juin-2026-sellieres-jura/
SUMMARY:BALAD'ART  6 & 7 JUIN 2026 – SELLIÈRES (JURA)
DESCRIPTION:\n\n\n\n\n\n\n🎨 BALAD'ART\n6 &amp\; 7 JUIN 2026 – SELLIÈR
 ES (JURA)\n\n\n« Ce village au nom de SELLIÈRES se transforme en galerie
  à ciel ouvert. Artistes\, artisans\, venez exposer au cœur du Jura. »\
 n\n\n\n\n\n\n📅\n6 &amp\; 7 JUIN 2026\nBalade artistique dans les rues\n
 \n\n\n\n📍\nSELLIÈRES (39230)\nVillage des salières – Jura\n\n\n\n\n
 💰\n10–19€\nInscription selon stand/durée\n\n\n\n\n\n🎭 APPEL À 
 PROJETS\nArtistes\, artisans\, exposez et vendez vos créations lors de ce
 tte balade unique.\n✉️ hubert.basenga@yahoo.fr\n\n\n\n\n🏛️ Selli
 ères\, village d'art\nSellières abrite l'unique Musée des salières de 
 France (plus de 6 000 objets d'art de la table) et la galerie « Espace L'
 Œuvre »\, inaugurée en 2023. Jusqu'au 25 mai 2024\, elle accueille une 
 exposition collective sur le thème de la forêt\, avec des artistes locau
 x comme Thierry Méheut ou Laure Rondeau.\nBalad'Art s'inscrit dans cette 
 dynamique associative qui fait vivre les savoir-faire jurassiens.\n\n\n\n\
 n\n📞 Contact\nhubert.basenga@yahoo.fr\n\n\n\n📍 Accès\nSellières (3
 9230) – Jura\nÀ 20 km de Champagnole\n\n\n\n📅 Inscriptions\n10–19
 € – Jusqu'au [date limite]\n\n\n\n\n✉️ S'INSCRIRE / CONTACT\n\nBal
 ad'Art – Initiative associative – Tous créateurs bienvenus\n\n\n
ATTACH;FMTTYPE=image/jpeg:https://infobresse.fr/wp-content/uploads/2026/02
 /logo-INFO-BRESSE-1024x675-4.jpeg
END:VEVENT
BEGIN:VTIMEZONE
TZID:Europe/Paris
X-LIC-LOCATION:Europe/Paris
BEGIN:DAYLIGHT
DTSTART:20260329T030000
TZOFFSETFROM:+0100
TZOFFSETTO:+0200
TZNAME:CEST
END:DAYLIGHT
END:VTIMEZONE
END:VCALENDAR