BEGIN:VCALENDAR
VERSION:2.0
PRODID:-//wp-events-plugin.com//7.2.3.1//EN
TZID:Europe/Paris
X-WR-TIMEZONE:Europe/Paris
BEGIN:VEVENT
UID:82@infobresse.fr
DTSTART;TZID=Europe/Paris:20261211T200000
DTEND;TZID=Europe/Paris:20261211T200000
DTSTAMP:20260218T203250Z
URL:https://infobresse.fr/events/calogero-parc-des-expositions/
SUMMARY:CALOGERO - PARC DES EXPOSITIONS
DESCRIPTION:\n\n\n\n11 déc.2026\nCONCERT - VARIETE ET CHANSON FRANCAISE\
 nArtiste : CALOGERO\n\n\n\n\nÉvènement de D2P et Calogero\n\n\n\n\n\n\n\
 n\n\n\n\n\nParc Des Expositions De Chalon/Saône\n\n\n\n\n\n\n\n\n\n\n\n\n
 \nPublic  · Tout le monde sur ou en dehors de Facebook\n\n\n\n\n\n\n\nQu
 inze ans après\, Calogero retrouvera les théâtres dès septembre 2025 p
 our une tournée évènement de plus de 150 dates. Après avoir sillonné 
 les Zénith et Arena\, il revient sur scène dans des lieux plus intimiste
 s pour offrir un résumé de son parcours en concert\, avec une sélection
  de « morceaux choisis » issus de son répertoire et présentés dans de
 s versions inédites.\nInfos sur Calogero.fr et www.d2p.fr\n\n\n\n\n\n\n\n
 \nBillets\nwww.ticketmaster.fr/fr/manifestation/calogero-billet/idmanif/61
 5785/idtier/42709727\n\n\n\n\n\n\nPARC DES EXPOSITIONS\n\n\n\n 	\n\n 	1 RU
 E AMSTERDAM\n 	71100 CHALON SUR SAONE - FRANCE\n\n\n\n\n\n\n\n\nCONCERT
 S - CALOGERO EN TOURNÉE\n\nQuinze ans après\, Calogero retrouve les thé
 âtres à partir de septembre 2025 pour une tournée évènement de plus d
 e 170 dates.\n\nAprès avoir sillonné les Zénith et Arena\, il revient s
 ur scène dans des lieux plus intimistes pour offrir un résumé de son pa
 rcours en concert\, avec une sélection de « morceaux choisis » issus de
  son répertoire et présentés dans des versions inédites.\n\nDATES &amp
 \; BILLETTERIE\n\n\n\n\n\n\n\n\n\n\n\n\n
END:VEVENT
BEGIN:VTIMEZONE
TZID:Europe/Paris
X-LIC-LOCATION:Europe/Paris
BEGIN:STANDARD
DTSTART:20261025T020000
TZOFFSETFROM:+0200
TZOFFSETTO:+0100
TZNAME:CET
END:STANDARD
END:VTIMEZONE
END:VCALENDAR