BEGIN:VCALENDAR
VERSION:2.0
PRODID:-//wp-events-plugin.com//7.2.3.1//EN
TZID:Europe/Paris
X-WR-TIMEZONE:Europe/Paris
BEGIN:VEVENT
UID:69@infobresse.fr
DTSTART;TZID=Europe/Paris:20260219T183000
DTEND;TZID=Europe/Paris:20260219T183000
DTSTAMP:20260213T174411Z
URL:https://infobresse.fr/events/cercle-en-chante-chants-du-coeur-de-lame-
 du-monde-mantras/
SUMMARY:Cercle En-Chanté - Chants du Cœur\, de l'Âme\, du monde\, Mantra
 s
DESCRIPTION:\n\n\n\n📅 Jeudi 19 Février 2026 à 18h30\n📍 Mervans (Pen
 dant les vacances scolaires)\n✨ Un espace pour être dans le présent\, 
 élever nos vibrations en confiance. Aucune compétence requise\, coeur ou
 vert !\n🚗 Pensez au covoiturage\n&nbsp\;\n📞 Renseignements : Florial
 le Bouvier au 06 38 01 49 98\n💰 Participation : 20€ ou don sur demand
 e\n\n\n\n\n
ATTACH;FMTTYPE=image/jpeg:https://infobresse.fr/wp-content/uploads/2026/02
 /631611260_2375091799626475_3186867178093010920_n.jpg
END:VEVENT
BEGIN:VTIMEZONE
TZID:Europe/Paris
X-LIC-LOCATION:Europe/Paris
BEGIN:STANDARD
DTSTART:20251026T020000
TZOFFSETFROM:+0200
TZOFFSETTO:+0100
TZNAME:CET
END:STANDARD
END:VTIMEZONE
END:VCALENDAR