BEGIN:VCALENDAR
VERSION:2.0
PRODID:-//wp-events-plugin.com//7.2.3.1//EN
TZID:Europe/Paris
X-WR-TIMEZONE:Europe/Paris
BEGIN:VEVENT
UID:86@infobresse.fr
DTSTART;TZID=Europe/Paris:20260508T180000
DTEND;TZID=Europe/Paris:20260510T130000
DTSTAMP:20260222T184457Z
URL:https://infobresse.fr/events/convention-tattoo-snail-ink-8-9-10-mai-20
 26-saint-vincent-en-bresse/
SUMMARY:Convention Tattoo Snail Ink -  8\, 9 & 10 mai 2026 – Saint-Vincen
 t-en-Bresse
DESCRIPTION:\n\n🔥 Convention Tattoo Snail Ink 🔥\n8\, 9 &amp\; 10 mai 
 2026 – Saint-Vincent-en-Bresse\n\n\n\n\n\nLa convention Tattoo Snail Ink
  revient pour trois jours placés sous le signe du tatouage\, de l’art\,
  de la musique et du spectacle ! En plus des tatoueurs présents tout le w
 eek-end\, venez profiter d’une programmation artistique variée.\n\n\n
 🎤 Au programme\n\n\n🎧 DJ Poz\nAssurera l’ambiance sonore avec ses 
 sets énergiques tout au long de l’événement.\n\n\n\n🎸 SCATTERBRAIN
 \nApportera son univers musical puissant et dynamique pour enflammer la sc
 ène le samedi soir.\n\n\n\n🎤 Les Poésies de comptoir\nVous plongeront
  dans une atmosphère festive et conviviale avec leurs textes et mélodies
  inspirées dimanche.\n\n\n\n🎶 2 Borders\nViendra partager ses sons\, s
 es reprises et son énergie avec le public pour un moment musical authenti
 que tout au long du week-end.\n\n\n\n✨ Nicolas Foessel\nMagicien\, surpr
 endra petits et grands avec ses performances mêlant mystère\, humour et 
 illusions.\n\n\n\n\n📍 Infos pratiques\nLieu : Saint-Vincent-en-Bresse (
 salle des fêtes ou autre ? à préciser)\nDates : 8\, 9 &amp\; 10 mai 202
 6\nHoraires :\n\n\n 	Vendredi : à partir de 18h00\n 	Samedi : à partir d
 e 10h00\n 	Dimanche : de 10h00 à 19h00\n\nTarifs :\n\n\n 	🎟️ 5€ 
 – L'entrée avec ton éco cup offert\n 	🎫 8€ – Le pass week-end\n
  	🎉 Gratuit le vendredi\n 	🧒 Gratuit pour les moins de 16 ans\n\n\n\
 n📘 Page Facebook de l'événement\n\n\nArticle publié le [date] – Ca
 tégorie : Sortir &amp\; se divertir\n\n\n\n\n\n\n\n\n\n📧 CONTACT\n\n\n
 snailink71@gmail.com\n\n\n\n\n\n\n\n  @keyframes pulse {\n    0% { box-sha
 dow: 0 0 30px rgba(0\,255\,255\,0.3)\; }\n    50% { box-shadow: 0 0 60px r
 gba(0\,255\,255\,0.8)\; }\n    100% { box-shadow: 0 0 30px rgba(0\,255\,25
 5\,0.3)\; }\n  }\n  a:hover {\n    transform: scale(1.05)\;\n    box-shado
 w: 0 15px 30px rgba(0\,0\,0\,0.4)\;\n  }\n
ATTACH;FMTTYPE=image/jpeg:https://infobresse.fr/wp-content/uploads/2026/02
 /639763520_1220354516945115_1583535312985083814_n.jpg
END:VEVENT
BEGIN:VTIMEZONE
TZID:Europe/Paris
X-LIC-LOCATION:Europe/Paris
BEGIN:DAYLIGHT
DTSTART:20260329T030000
TZOFFSETFROM:+0100
TZOFFSETTO:+0200
TZNAME:CEST
END:DAYLIGHT
END:VTIMEZONE
END:VCALENDAR