BEGIN:VCALENDAR
VERSION:2.0
PRODID:-//wp-events-plugin.com//7.2.3.1//EN
TZID:Europe/Paris
X-WR-TIMEZONE:Europe/Paris
BEGIN:VEVENT
UID:108@infobresse.fr
DTSTART;TZID=Europe/Paris:20260508T180000
DTEND;TZID=Europe/Paris:20260510T190000
DTSTAMP:20260413T190243Z
URL:https://infobresse.fr/events/convention-tattoo-snail-ink/
SUMMARY:Convention tattoo snail ink
DESCRIPTION:🐌⚡ SNAIL INK TATTOO CONVENTION ⚡🐌\n\n📅 8 • 9 •
  10 MAI 2026\n\n📍 Saint-Vincent-en-Bresse\n\n🔥 3 JOURS D’ENCRE\, D
 E MUSIQUE ET DE SHOW !\n\nDes tatoueurs venus partager leur art\, des perc
 eurs\, des concerts\, un show de magie\, des artisans et créateurs…\n\n
 Le tout dans une ambiance rock\, festive et déjantée !\n\n⚡ Tattoos en
  live\n\n⚡ Concerts &amp\; animations\n\n⚡ Créateurs &amp\; artisanat
 \n\n⚡ Shows et surprises tout le week-end\n\n🍻 Buvette &amp\; restaur
 ation sur place\n\n🖤 Que tu sois passionné de tattoo\, biker\, rockeur
  ou simple curieux… viens vivre l’expérience SNAIL INK !\n\n📣 Ram
 ène ta bande et prépare-toi pour un week-end qui va marquer la peau et l
 es esprits.
ATTACH;FMTTYPE=image/jpeg:https://infobresse.fr/wp-content/uploads/2026/04
 /inbound5155594549022674711.png
END:VEVENT
BEGIN:VTIMEZONE
TZID:Europe/Paris
X-LIC-LOCATION:Europe/Paris
BEGIN:DAYLIGHT
DTSTART:20260329T030000
TZOFFSETFROM:+0100
TZOFFSETTO:+0200
TZNAME:CEST
END:DAYLIGHT
END:VTIMEZONE
END:VCALENDAR