BEGIN:VCALENDAR
VERSION:2.0
PRODID:-//wp-events-plugin.com//7.2.3.1//EN
TZID:Europe/Paris
X-WR-TIMEZONE:Europe/Paris
BEGIN:VEVENT
UID:89@infobresse.fr
DTSTART;TZID=Europe/Paris:20261023T203000
DTEND;TZID=Europe/Paris:20261023T203000
DTSTAMP:20260224T191826Z
URL:https://infobresse.fr/events/elles-pardonnent-mais-noublient-jamais-un
 e-comedie-sur-le-mensonge-debarque-a-lons-le-saunier/
SUMMARY:« Elles pardonnent mais n’oublient jamais » : une comédie sur 
 le mensonge débarque à Lons-le-Saunier
DESCRIPTION:\n\n\n\n\n\n« Elles pardonnent mais n’oublient jamais » : u
 ne comédie sur le mensonge débarque à Lons-le-Saunier\n\n\nLa promesse 
 est simple : une soirée où les secrets de couple volent en éclats… et
  où l’on rit justement de ce que l’on tait d’habitude.\n\n\n\n\nÀ 
 Lons-le-Saunier\, cette comédie au titre cinglant\, « Elles pardonnent m
 ais n’oublient jamais »\, arrive avec l’ambition assumée de dynamise
 r l’automne culturel 2026.\n\n\n\n\nAu cœur de cette pièce produite pa
 r Cœur de Scène\, on retrouve Jeff et Sophie\, trentenaires pris dans un
  pacte aussi sain en théorie que périlleux en pratique : ne plus jamais 
 se mentir.\nPendant 70 minutes environ\, les non-dits se fissurent\, les p
 etites lâchetés du quotidien affleurent\, et la mécanique de la sincér
 ité absolue devient le moteur d’une succession de quiproquos. L’amour
 \, la jalousie\, le désir et les stéréotypes de genre sont passés au c
 rible de l’humour.\n\n\n\n\nLa mise en scène joue précisément sur ce 
 contraste entre tendresse et cruauté. La pièce est présentée comme « 
 sauvage et tendre »\, ou encore « sauvagement drôle »\, assumant une 
 écriture rythmée\, des répliques qui fusent et des personnages volontai
 rement poussés dans leurs retranchements.\n\n\n\n\nÀ Lons-le-Saunier\, l
 e rendez-vous est fixé au Bœuf sur le Toit\, 135 place du Maréchal Juin
 \, le vendredi 23 octobre 2026 à 20 h 30. Une date calée en pleine s
 aison culturelle\, qui mise visiblement sur l’attrait d’une tournée n
 ationale déjà bien lancée.\nLa billetterie en ligne\, accessible via la
  plateforme Tickandlive associée à Cœur de Scène\, centralise les rés
 ervations et laisse présager une jauge appelée à se remplir rapidement.
  D’autant que le spectacle est programmé dans de nombreuses villes de F
 rance\, de Paris aux salles des fêtes de province\, où il suscite déjà
  un bouche-à-oreille favorable.\n\n\n\n\nEn filigrane\, cette venue s’i
 nscrit dans une stratégie plus large de diffusion de comédies « grand p
 ublic » par Cœur de Scène\, qui multiplie les tournées et s’affirme 
 comme un acteur bien implanté du café-théâtre et du spectacle humorist
 ique en région.\n\n\n\n\nInfos pratiques\n\n 	Pièce : « Elles pardonnen
 t mais n’oublient jamais »\n 	Lieu : Le Bœuf sur le Toit\, 135 place d
 u Maréchal Juin\, Lons-le-Saunier\n 	Date : Vendredi 23 octobre 2026 à 2
 0h30\n 	Durée : 70 minutes\n 	Billetterie : coeurdescene.fr/billetterie (
 via Tickandlive)\n\n\n\n\n\n
ATTACH;FMTTYPE=image/jpeg:https://infobresse.fr/wp-content/uploads/2026/02
 /11111.jpg
END:VEVENT
BEGIN:VTIMEZONE
TZID:Europe/Paris
X-LIC-LOCATION:Europe/Paris
BEGIN:DAYLIGHT
DTSTART:20260329T030000
TZOFFSETFROM:+0100
TZOFFSETTO:+0200
TZNAME:CEST
END:DAYLIGHT
END:VTIMEZONE
END:VCALENDAR