BEGIN:VCALENDAR
VERSION:2.0
PRODID:-//wp-events-plugin.com//7.2.3.1//EN
TZID:Europe/Paris
X-WR-TIMEZONE:Europe/Paris
BEGIN:VEVENT
UID:59@infobresse.fr
DTSTART;TZID=Europe/Paris:20260820T000000
DTEND;TZID=Europe/Paris:20260822T000000
DTSTAMP:20260210T221804Z
URL:https://infobresse.fr/events/festival-les-gueules-de-bois-2026-6%e1%b5
 %89-edition/
SUMMARY:Festival Les Gueules de Bois 2026 - 6ᵉ édition
DESCRIPTION:Trois jours.\nTrois nuits.\nUn seul mot d'ordre : l'énergie br
 ute.\n\nMatmatah &amp\; the fuzzy brass four.\nThe Rumjacks.\nCockney Reje
 cts.\nSvinkels family &amp\; friends.\nMoscow Death Brigade.\nLa Phaze.\nL
 e Réparateur.\nMaggy Bolle.\nBurning Heads.\n\nLe son rugit.\nLes BMX vol
 ent.\nLe bois crépite.\n\nJeudi 20\, Vendredi 21 &amp\; Samedi 22 août 2
 026\nLa Côte des Vignes- Légna (39)\n\nUn festival à taille humaine.\nA
 vec l'énergie d'un géant.\nPour clôturer l'été comme il se doit.\n\nB
 illetterie en ligne.\n\n\n\n\n\n\n\n\nLa Côte des Vignes\, Légna (39)
ATTACH;FMTTYPE=image/jpeg:https://infobresse.fr/wp-content/uploads/2026/02
 /631352458_2220833815108980_1785102571012107330_n-8.jpg
END:VEVENT
BEGIN:VTIMEZONE
TZID:Europe/Paris
X-LIC-LOCATION:Europe/Paris
BEGIN:DAYLIGHT
DTSTART:20260329T030000
TZOFFSETFROM:+0100
TZOFFSETTO:+0200
TZNAME:CEST
END:DAYLIGHT
END:VTIMEZONE
END:VCALENDAR