BEGIN:VCALENDAR
VERSION:2.0
PRODID:-//wp-events-plugin.com//7.2.3.1//EN
TZID:Europe/Paris
X-WR-TIMEZONE:Europe/Paris
BEGIN:VEVENT
UID:90@infobresse.fr
DTSTART;TZID=Europe/Paris:20260225T080000
DTEND;TZID=Europe/Paris:20260226T190000
DTSTAMP:20260224T225114Z
URL:https://infobresse.fr/events/ouverture-cabinet-magnetiseuse-varennes-s
 aint-sauveur/
SUMMARY:Ouverture cabinet magnétiseuse varennes saint sauveur
DESCRIPTION:Ouverture a varennes Saint-Sauveur\n&nbsp\;\n\nMagnétiseuse
ATTACH;FMTTYPE=image/jpeg:https://infobresse.fr/wp-content/uploads/2026/02
 /1000017851.jpg
LOCATION:98 rue centrale\, 98 rue centrale\, Varennes saint sauveur \, 71\,
  71480\, Bourgogne \, France
X-APPLE-STRUCTURED-LOCATION;VALUE=URI;X-ADDRESS=98 rue centrale\, Varennes 
 saint sauveur \, 71\, 71480\, Bourgogne \, France;X-APPLE-RADIUS=100;X-TIT
 LE=98 rue centrale:geo:0,0
END:VEVENT
BEGIN:VTIMEZONE
TZID:Europe/Paris
X-LIC-LOCATION:Europe/Paris
BEGIN:STANDARD
DTSTART:20251026T020000
TZOFFSETFROM:+0200
TZOFFSETTO:+0100
TZNAME:CET
END:STANDARD
END:VTIMEZONE
END:VCALENDAR